BEGIN:VCALENDAR
VERSION:2.0
PRODID:-//ChamberMaster//Event Calendar 2.0//EN
METHOD:PUBLISH
X-PUBLISHED-TTL:P3D
REFRESH-INTERVAL:P3D
CALSCALE:GREGORIAN
BEGIN:VEVENT
DTSTART:20240227T170000Z
DTEND:20240227T170000Z
X-MICROSOFT-CDO-ALLDAYEVENT:FALSE
SUMMARY:Master Class: French Omelettes\, and Parisian Lunch\, with Marc Sievers
DESCRIPTION:Presented by the Cultural Center of Cape Cod on Tuesday\, February 27\, from 11am-1:30pm. Join cookbook author Marc J. Sievers in the kitchen for a master class on French Omelettes\, followed by a cozy Paris-inspired lunch! Marc will walk you through his tried-and-true techniques for the iconic French omelette\, his favorite equipment\, and the best to achieve the most flavor. You will also practice making omelettes alongside him\, getting expert advice along the way. The day will end with a late-afternoon lunch all inspired by his cookbook French Omelettes: Your New House Meal\, including a wine tasting and a box of his Honey Lavender Milk Chocolate Truffles. A signed copy of his cookbook is included with each spot et voil ! $160. Register at www.cultural-center.org or call 508-394-7100. The Cultural Center is located at 307 Old Main Street in South Yarmouth.
X-ALT-DESC;FMTTYPE=text/html:Presented by the Cultural Center of Cape Cod on Tuesday\, February 27\, from 11am-1:30pm. Join cookbook author Marc J. Sievers in the kitchen for a master class on French Omelettes\, followed by a cozy Paris-inspired lunch! Marc will walk you through his tried-and-true techniques for the iconic French omelette\, his favorite equipment\, and the best to achieve the most flavor. You will also practice making omelettes alongside him\, getting expert advice along the way. The day will end with a late-afternoon lunch&mdash\;all inspired by his cookbook French Omelettes: Your New House Meal\, including a wine tasting and a box of his Honey Lavender Milk Chocolate Truffles. A signed copy of his cookbook is included with each spot&mdash\;et voil&agrave\;! $160. Register at www.cultural-center.org or call 508-394-7100. The Cultural Center is located at 307 Old Main Street in South Yarmouth.
LOCATION:Cultural Center of Cape Cod\, 307 Old Main St.\, South Yarmouth
UID:e.2831.19111
SEQUENCE:3
DTSTAMP:20260419T154157Z
URL:https://business.yarmouthcapecod.com/events/details/master-class-french-omelettes-and-parisian-lunch-with-marc-sievers-19111
END:VEVENT

END:VCALENDAR
