BEGIN:VCALENDAR
VERSION:2.0
PRODID:-//ChamberMaster//Event Calendar 2.0//EN
METHOD:PUBLISH
X-PUBLISHED-TTL:P3D
REFRESH-INTERVAL:P3D
CALSCALE:GREGORIAN
BEGIN:VEVENT
DTSTART:20260411T140000Z
DTEND:20260411T160000Z
X-MICROSOFT-CDO-ALLDAYEVENT:FALSE
SUMMARY:St. David's Thrift Shop Annex Sale
DESCRIPTION:Books\, media including CD's & DVD's\, jewelry
X-ALT-DESC;FMTTYPE=text/html:Books\, media including CD&#39\;s &amp\; DVD&#39\;s\, jewelry
LOCATION:205 Main St.\, South Yarmouth
UID:e.2831.27425
SEQUENCE:3
DTSTAMP:20260421T090737Z
URL:https://business.yarmouthcapecod.com/events/details/st-david-s-thrift-shop-annex-sale-27425
END:VEVENT

END:VCALENDAR
